BEGIN:VCALENDAR
VERSION:2.0
PRODID:-//Colorado River Land Trust - ECPv6.15.20//NONSGML v1.0//EN
CALSCALE:GREGORIAN
METHOD:PUBLISH
X-WR-CALNAME:Colorado River Land Trust
X-ORIGINAL-URL:https://www.coloradoriverlandtrust.org
X-WR-CALDESC:Events for Colorado River Land Trust
REFRESH-INTERVAL;VALUE=DURATION:PT1H
X-Robots-Tag:noindex
X-PUBLISHED-TTL:PT1H
BEGIN:VTIMEZONE
TZID:America/Chicago
BEGIN:DAYLIGHT
TZOFFSETFROM:-0600
TZOFFSETTO:-0500
TZNAME:CDT
DTSTART:20210314T080000
END:DAYLIGHT
BEGIN:STANDARD
TZOFFSETFROM:-0500
TZOFFSETTO:-0600
TZNAME:CST
DTSTART:20211107T070000
END:STANDARD
BEGIN:DAYLIGHT
TZOFFSETFROM:-0600
TZOFFSETTO:-0500
TZNAME:CDT
DTSTART:20220313T080000
END:DAYLIGHT
BEGIN:STANDARD
TZOFFSETFROM:-0500
TZOFFSETTO:-0600
TZNAME:CST
DTSTART:20221106T070000
END:STANDARD
BEGIN:DAYLIGHT
TZOFFSETFROM:-0600
TZOFFSETTO:-0500
TZNAME:CDT
DTSTART:20230312T080000
END:DAYLIGHT
BEGIN:STANDARD
TZOFFSETFROM:-0500
TZOFFSETTO:-0600
TZNAME:CST
DTSTART:20231105T070000
END:STANDARD
END:VTIMEZONE
BEGIN:VEVENT
DTSTART;TZID=America/Chicago:20220903T100000
DTEND;TZID=America/Chicago:20220903T140000
DTSTAMP:20260420T050959
CREATED:20220809T160834Z
LAST-MODIFIED:20220809T160838Z
UID:10000030-1662199200-1662213600@www.coloradoriverlandtrust.org
SUMMARY:Beach House Bash at Matagorda Bay Nature Park
DESCRIPTION:We’re sad to see summer go\, so let’s end it with one last bash! Join us for a FREE fun-filled event at Matagorda Bay Nature Park. \n\n\n\nLCRA Parks is proud to present its newest overnight accommodation – 10 beach bungalows – so they’re welcoming you to come see them for yourself. \n\n\n\nAfter your firsthand look\, join us and some amazing featured partners\, who amplify outdoor recreation\, for a chance to win a number of great prizes! Play games\, grab a tasty treat and compete in kayak races. \n\n\n\nFeatured vendors include: All Hands Cocktails\, Colorado River Land Trust\, Desert Door Distillery\, Epic Western\, Full Moon Pizza\, Greenbelt Outdoors\, GUNNER\, ICEHOLE Coolers\, Kone Ice\, Matagorda Outfitters\, Mill Scale Metal Works\, PAKMULE\, Pecos Outdoors\, Ranch Water Rentals\, Richard’s Rainwater\, Slim Pickins Outfitters\, Treaty Oak Distillery and Tropical Maniacs
URL:https://www.coloradoriverlandtrust.org/event/beach-house-bash-at-matagorda-bay-nature-park/
LOCATION:Matagorda Bay Nature Park\, 6430 FM2031\, Matagorda\, Texas\, 77457
ATTACH;FMTTYPE=image/png:https://www.coloradoriverlandtrust.org/wp-content/uploads/2022/08/Untitled-720-×-293-px.png
GEO:28.6013405;-95.9781148
X-APPLE-STRUCTURED-LOCATION;VALUE=URI;X-ADDRESS=Matagorda Bay Nature Park 6430 FM2031 Matagorda Texas 77457;X-APPLE-RADIUS=500;X-TITLE=6430 FM2031:geo:-95.9781148,28.6013405
END:VEVENT
BEGIN:VEVENT
DTSTART;TZID=America/Chicago:20220521T100000
DTEND;TZID=America/Chicago:20220522T160000
DTSTAMP:20260420T050959
CREATED:20220428T170835Z
LAST-MODIFIED:20220428T170838Z
UID:10000028-1653127200-1653235200@www.coloradoriverlandtrust.org
SUMMARY:Hill Country Hoedown
DESCRIPTION:Join the outdoor\, lifestyle brand AF and Colorado River Land Trust on May 21-22 11am-5pm at Fair Market in East Austin for a gathering of the best outdoor brands bringing you gear that will take you to the most remote ends of the earth or make you the envy of your neighborhood with the ultimate backyard BBQ setup. Sip ranch water\, eat award winning barbecue\, and be serenaded by the sweet sounds of Texas country music. This will be a weekend you will not want to miss.
URL:https://www.coloradoriverlandtrust.org/event/hill-country-hoedown/
LOCATION:Fair Market\, 1100 E 5th St\, Austin\, Texas\, 78702
ATTACH;FMTTYPE=image/png:https://www.coloradoriverlandtrust.org/wp-content/uploads/2022/04/Untitled-design-2.png
GEO:30.2640522;-97.7315283
X-APPLE-STRUCTURED-LOCATION;VALUE=URI;X-ADDRESS=Fair Market 1100 E 5th St Austin Texas 78702;X-APPLE-RADIUS=500;X-TITLE=1100 E 5th St:geo:-97.7315283,30.2640522
END:VEVENT
BEGIN:VEVENT
DTSTART;TZID=America/Chicago:20220513T080000
DTEND;TZID=America/Chicago:20220513T120000
DTSTAMP:20260420T050959
CREATED:20220428T164243Z
LAST-MODIFIED:20220428T164246Z
UID:10000026-1652428800-1652443200@www.coloradoriverlandtrust.org
SUMMARY:Protecting Family Lands Workshop
DESCRIPTION:Join us in historic downtown San Saba at the Pecan House Grill for a free landowner workshop on Friday\, May 13th! This highly informative workshop will cover topics including: opportunities for managing your land\, protecting your family farm or ranch\, as well as testimony from a multi-generational Texas farmer. \n\n\n\nEnjoy a complimentary lunch from Pecan House Grill lunch while learning about: \n\n\n\nProtecting historical lands with Tiffany Osburn from the Texas Historical CommissionManaging your ranch operation with attorney\, Jim BradburyTaking care of the family farm with Rick Castello\, farmer and rancher.\n\n\n\nWe hope to see you in San Saba on May 13th.
URL:https://www.coloradoriverlandtrust.org/event/protecting-family-lands-workshop/
LOCATION:Pecan House Grill\, 408 E Wallace Street\, San Saba\, Texas\, 76877
ATTACH;FMTTYPE=image/png:https://www.coloradoriverlandtrust.org/wp-content/uploads/2022/03/San-Saba-Workshop-2000-×-800-px-720-×-293-px.png
GEO:31.1957231;-98.7180872
X-APPLE-STRUCTURED-LOCATION;VALUE=URI;X-ADDRESS=Pecan House Grill 408 E Wallace Street San Saba Texas 76877;X-APPLE-RADIUS=500;X-TITLE=408 E Wallace Street:geo:-98.7180872,31.1957231
END:VEVENT
BEGIN:VEVENT
DTSTART;TZID=America/Chicago:20220501T110000
DTEND;TZID=America/Chicago:20220531T170000
DTSTAMP:20260420T050959
CREATED:20220427T135350Z
LAST-MODIFIED:20220428T163449Z
UID:10000043-1651402800-1654016400@www.coloradoriverlandtrust.org
SUMMARY:Cocktails for Conservation at Treaty Oak Distilling
DESCRIPTION:Tip one back for conservation and come together to protect the place we call home by joining us at the gorgeous Treaty Oak Distilling in Dripping Springs\, TX! During the month of May\, Treaty Oak is donating $1 for every Watermelon Ricky sold to Colorado River Land Trust.
URL:https://www.coloradoriverlandtrust.org/event/cocktails-for-conservation-at-treaty-oak-distilling/
LOCATION:Treaty Oak Distilling\, 16604 Fitzhugh Rd\, Dripping Springs\, Texas
ATTACH;FMTTYPE=image/png:https://www.coloradoriverlandtrust.org/wp-content/uploads/2022/04/Untitled-design-1.png
GEO:30.2464884;-98.0548937
X-APPLE-STRUCTURED-LOCATION;VALUE=URI;X-ADDRESS=Treaty Oak Distilling 16604 Fitzhugh Rd Dripping Springs Texas;X-APPLE-RADIUS=500;X-TITLE=16604 Fitzhugh Rd:geo:-98.0548937,30.2464884
END:VEVENT
BEGIN:VEVENT
DTSTART;TZID=America/Chicago:20220422T080000
DTEND;TZID=America/Chicago:20220422T130000
DTSTAMP:20260420T050959
CREATED:20220321T141829Z
LAST-MODIFIED:20220324T131716Z
UID:10000022-1650614400-1650632400@www.coloradoriverlandtrust.org
SUMMARY:Lone Star Lands
DESCRIPTION:Texas landowners are invited to attend a free landowner workshop hosted by LCRA’s Creekside Conservation  \n\n\n\nYou’re invited to an event tailored specifically to Texas landowners like you. Hear from other landowners and industry professionals about available resources to improve your land and practices. Enjoy a complimentary lunch by Roaming Fire\, learn about landowner liability from featured speaker Trace Blair and touch on topics including: \n\n\n\n– Funding landowner initiatives– Restoring local wildlife habitat– Protecting your ranching heritage– Reducing wildfire fuel on your property \n\n\n\nTo RSVP\, please contact Marshall.Trigg@LCRA.org or 830-596-7239 by April 15th. \n\n\n\nAttendance limited to the first 75 respondents.
URL:https://www.coloradoriverlandtrust.org/event/lone-star-lands/
LOCATION:McKinney Roughs Nature Park\, 1884 State Highway 71 West\, Cedar Creek\, Texas\, 78612
ATTACH;FMTTYPE=image/png:https://www.coloradoriverlandtrust.org/wp-content/uploads/2022/03/lonestar-lands-1.png
GEO:30.1407035;-97.4594766
X-APPLE-STRUCTURED-LOCATION;VALUE=URI;X-ADDRESS=McKinney Roughs Nature Park 1884 State Highway 71 West Cedar Creek Texas 78612;X-APPLE-RADIUS=500;X-TITLE=1884 State Highway 71 West:geo:-97.4594766,30.1407035
END:VEVENT
BEGIN:VEVENT
DTSTART;TZID=America/Chicago:20220414T173000
DTEND;TZID=America/Chicago:20220414T183000
DTSTAMP:20260420T050959
CREATED:20220321T143958Z
LAST-MODIFIED:20220321T180741Z
UID:10000023-1649957400-1649961000@www.coloradoriverlandtrust.org
SUMMARY:Kings Highway - DAR Speaking Engagement
DESCRIPTION:Join us in scenic Bastrop\, the heart of the Colorado River watershed for a presentation hosted by the Daughters of the American Revolution. Colorado River Land Trust’s Executive Director\, Jeff Crosby will be speaking to the DAR organization about the work Colorado River Land Trust does to protect our landscapes and traditions.
URL:https://www.coloradoriverlandtrust.org/event/kings-highway-daughters-of-the-american-revolution-speaking-engagement/
LOCATION:Heritage Hall\, 1020 Main Street\, Bastrop\, Texas\, United States
GEO:30.1111688;-97.3202851
X-APPLE-STRUCTURED-LOCATION;VALUE=URI;X-ADDRESS=Heritage Hall 1020 Main Street Bastrop Texas United States;X-APPLE-RADIUS=500;X-TITLE=1020 Main Street:geo:-97.3202851,30.1111688
END:VEVENT
BEGIN:VEVENT
DTSTART;TZID=America/Chicago:20220331T090000
DTEND;TZID=America/Chicago:20220331T160000
DTSTAMP:20260420T050959
CREATED:20220321T155835Z
LAST-MODIFIED:20220321T155836Z
UID:10000024-1648717200-1648742400@www.coloradoriverlandtrust.org
SUMMARY:Gear up for Game Wardens
DESCRIPTION:Join us at the at the beautiful Little Chief Ranch in Llano\, TX for Gear Up for Game Wardens Helice Shoot Fundraiser. The proceeds raised will go towards providing specialty equipment for Texas Game Wardens to help advance their capabilities to provide the highest level of service for the people of Texas. To register or learn more: https://www.gearupforgamewardens.org/
URL:https://www.coloradoriverlandtrust.org/event/gear-up-for-game-wardens/
LOCATION:Texas
ATTACH;FMTTYPE=image/jpeg:https://www.coloradoriverlandtrust.org/wp-content/uploads/2022/03/Gear-Up-Helice-Shoot-Fundraiser_03.31.22-1.jpg
END:VEVENT
END:VCALENDAR